BEGIN:VCALENDAR
VERSION:2.0
PRODID:-//ddaysoftware.com//NONSGML DDay.iCal 1.0//EN
BEGIN:VEVENT
DESCRIPTION:Designed for both new floodplain administrators as well as  a r
 efresher course for Certified Floodplain Managers (CFMs).  The session wil
 l cover floodplain management concepts\, basic FEMA mapping\, map changes\
 , State of Illinois floodway regulations\, state and local floodplain perm
 it requirements\, flood insurance\, CRS\, and mitigation. Course instructo
 rs will be floodplain management and permitting staff from IDNR/OWR\, mapp
 ing staff from ISWS\, and NFIP specialists from FEMA.\nCourse instructors 
 will stay after the workshop to provide individual assistance to those tak
 ing the CFM Exam on Tuesday evening.\n \nWorkshop Outline:\nFlooding and F
 loodplain Management\nFloodplain  Mapping  and Mapping Changes\nFloodplain
  and Floodway Regulations \nOrdinances\nFlood Insurance updates\nFlood Mit
 igation and CRS\n \nCost: $95 including Box lunch        5 PE PDHs and 4 C
 FM CECs\nTime:  9:00am-3pm                           Registration at 8:30\
 nNFIP 101 Flyer
DTEND:20190312T150059
DTSTAMP:20260421T053307
DTSTART:20190312T090059
LOCATION:Embassy Suites\; Peoria Riverfront Conference Center\, 100 Confere
 nce Center Drive\, East Peoria\, IL 61611
SEQUENCE:0
SUMMARY:NFIP 101 Seminar - 2019 Preconference
UID:d9c66b97-743d-44f8-bb71-588684ef887e
END:VEVENT
END:VCALENDAR
