BEGIN:VCALENDAR
VERSION:2.0
PRODID:-//ddaysoftware.com//NONSGML DDay.iCal 1.0//EN
BEGIN:VEVENT
DESCRIPTION:Please view the course flyer for more information about registe
 ring.
DTEND:20191010T235959
DTSTAMP:20260421T054044
DTSTART:20191007T000000
LOCATION:Downers Grove Public Works\, 5101 Walnut Ave.\, Downers Grove\, IL
  60515
SEQUENCE:0
SUMMARY:L278 NFIP/Community Rating System
UID:4ac16b2d-4697-4e8f-a990-e3762e63a546
END:VEVENT
END:VCALENDAR
