BEGIN:VCALENDAR
VERSION:2.0
PRODID:-//ddaysoftware.com//NONSGML DDay.iCal 1.0//EN
BEGIN:VEVENT
DESCRIPTION:Hotel Information\nEmbassy Suites East Peoria Riverfront Hotel 
 &amp\; Conference Center100 Conference Center Drive East Peoria\, Illinois
 \, 61611\nAdditional Hotels
DTEND:20190314T160059
DTSTAMP:20260421T053205
DTSTART:20190313T080059
LOCATION:Embassy Suites\; Peoria Riverfront Conference Center\, 100 Confere
 nce Center Drive\, East Peoria\, IL 61611
SEQUENCE:0
SUMMARY:2019 IAFSM Annual Conference
UID:2939f686-4edf-4811-ae3f-219f368fe1c2
END:VEVENT
END:VCALENDAR
