BEGIN:VCALENDAR
VERSION:2.0
PRODID:-//ddaysoftware.com//NONSGML DDay.iCal 1.0//EN
BEGIN:VEVENT
DESCRIPTION:This two-day seminar will prepare participants to set up and ru
 n EPA-SWMM models with a combination of lectures and hands-on examples tau
 ght by David Sample\, Ph.D.\, P.E.\, and Bob Carr\, P.E. David is an Assoc
 iate Professor of Biological Systems Engineering at Virgina Tech\, his res
 earch focuses upon improving the performance of urban stormwater systems t
 hrough modeling and monitoring. Bob is a self-employed consultant with ove
 r 35 years of experience in hydrologic/hydraulic modeling\, specializing i
 n combined sewer systems and dual drainage\, including 1D/2D analyses. Par
 ticipants will learn the concepts of EPA SWMM modeling with a focus on mod
 eling various types of green infrastructure.\nNo prior EPA SWMM experience
  is required\; however\, participants should have a technical background. 
 Each participant will need to bring a laptop with EPA SWMM installed.For m
 ore details on the course please see the attached agenda. Should you have 
 any questions to regarding this course (agenda\, hotel options\, meals\, e
 tc.)\, please contact Shauna Urlacher at (630) 729-6160 or via e-mail at s
 urlacher@v3co.com.\nWorkshop flyer
DTEND:20170818T235959
DTSTAMP:20260421T053205
DTSTART:20170817T000000
LOCATION:NIU Naperville\, 1120 East Diehl Road\, Naperville\, IL 60563
SEQUENCE:0
SUMMARY:2 Day EPA SWMM Modeling Seminar
UID:8cdd0cb7-e66b-4b2c-8e60-6c59e211686e
END:VEVENT
END:VCALENDAR
