BEGIN:VCALENDAR
VERSION:2.0
PRODID:-//ddaysoftware.com//NONSGML DDay.iCal 1.0//EN
BEGIN:VEVENT
DESCRIPTION:
DTEND:20260210T133059
DTSTAMP:20260421T054715
DTSTART:20260210T120059
LOCATION:VIRTUAL - LINK TO FOLLOW\, IL
SEQUENCE:0
SUMMARY:Webinar Series - Dr. Julie Nucci - SPECIAL RATE
UID:4f1c9c95-3ae8-4a44-b6ec-bc532c24e43e
END:VEVENT
END:VCALENDAR
