BEGIN:VCALENDAR
VERSION:2.0
PRODID:-//ddaysoftware.com//NONSGML DDay.iCal 1.0//EN
BEGIN:VEVENT
DESCRIPTION:
DTEND:20260210T133059
DTSTAMP:20260419T081007
DTSTART:20260120T120059
LOCATION:VIRTUAL - LINK TO FOLLOW\, IL
SEQUENCE:0
SUMMARY:Webinar Series - Dr. Julie Nucci
UID:733d0e76-87b7-4de6-8947-0b2c767f603b
END:VEVENT
END:VCALENDAR
