BEGIN:VCALENDAR
VERSION:2.0
PRODID:-//ddaysoftware.com//NONSGML DDay.iCal 1.0//EN
BEGIN:VEVENT
DESCRIPTION:
DTEND:20260204T140059
DTSTAMP:20260421T052757
DTSTART:20260202T110059
LOCATION:VIRTUAL - LINK TO FOLLOW\, IL
SEQUENCE:0
SUMMARY:2DHM-B Course
UID:cff71f07-0441-4677-9261-4f0b4fdde8f9
END:VEVENT
END:VCALENDAR
