BEGIN:VCALENDAR
VERSION:2.0
PRODID:-//ddaysoftware.com//NONSGML DDay.iCal 1.0//EN
BEGIN:VEVENT
DESCRIPTION:
DTEND:20260128T140059
DTSTAMP:20260421T052854
DTSTART:20260126T110059
LOCATION:VIRTUAL - LINK TO FOLLOW\, IL
SEQUENCE:0
SUMMARY:2DHM-A Course
UID:25859ba3-8f07-45e6-8ea2-e22e6a566b7b
END:VEVENT
END:VCALENDAR
