BEGIN:VCALENDAR
VERSION:2.0
PRODID:-//ddaysoftware.com//NONSGML DDay.iCal 1.0//EN
BEGIN:VEVENT
DESCRIPTION:
DTEND:20251030T160059
DTSTAMP:20260421T052336
DTSTART:20251028T090059
LOCATION:DuPage County Office of Homeland Security and Emergency Management
  (OHSEM)\, 418 N. County Farm Road\, Wheaton\, IL 60187
SEQUENCE:0
SUMMARY:FEQ Beginner Course
UID:a84330f9-00b4-407c-a259-950e9d7a3182
END:VEVENT
END:VCALENDAR
