BEGIN:VCALENDAR
VERSION:2.0
PRODID:-//ddaysoftware.com//NONSGML DDay.iCal 1.0//EN
BEGIN:VEVENT
DESCRIPTION:Loading…
DTEND:20260312T150059
DTSTAMP:20260421T054858
DTSTART:20260311T080059
LOCATION:iHotel & Illinois Conference Center\, 1900 S 1st St\, Champaign\, 
 IL 61820
SEQUENCE:0
SUMMARY:2026 IAFSM Annual Conference
UID:9e671a75-66f5-433f-90dc-5dbd07d724dc
END:VEVENT
END:VCALENDAR
