BEGIN:VCALENDAR
VERSION:2.0
PRODID:-//ddaysoftware.com//NONSGML DDay.iCal 1.0//EN
BEGIN:VEVENT
DESCRIPTION:This three-day seminar will prepare participants to set up and 
 run HEC-RAS steady flow applications with a combination of lectures and ha
 nds-on workshops taught by renowned instructor Vernon Bonner\, P.E. Partic
 ipants will learn the concepts of basic HEC-RAS modeling\, which includes 
 modeling bridges\, culverts and floodways.\nDay one\, you will develop a r
 iver model\, run simulations and review program output. An overview of the
  computational methods and data requirements will be provided. Day two\, y
 ou will learn how to add roadway crossings with bridges or culverts to you
 r model. The last day will overview: importing HEC-2 data\, using DTM data
  with Mapper\, plus ??oodway procedures. You will compute a FEMA ??oodway.
  All workshops include a review\, with an emphasis on output analysis.For 
 more details on the course please see the attached agenda. Should you have
  any questions to regarding this course (agenda\, hotel options\, meals\, 
 etc.)\, please contact Shauna Urlacher at (630) 729-6160 or via e-mail at 
 surlacher@v3co.com.\nWorkshop Flyer
DTEND:20170405T161559
DTSTAMP:20260421T052827
DTSTART:20170403T080059
LOCATION:DuPage County\, 421 N County Farm Road\, Wheaton\, IL 60563
SEQUENCE:0
SUMMARY:3 Day HEC-RAS Modeling Seminar
UID:baff5361-2c3e-4069-8ff9-f42a1d434eb6
END:VEVENT
END:VCALENDAR
