BEGIN:VCALENDAR
VERSION:2.0
PRODID:-//ddaysoftware.com//NONSGML DDay.iCal 1.0//EN
BEGIN:VEVENT
DESCRIPTION:Designed for both new floodplain administrators as well as a re
 fresher course for Certified Floodplain Managers (CFMs).  The session will
  cover floodplain management concepts\, basic FEMA mapping\, map changes\,
  State of Illinois floodway regulations\, state and local floodplain permi
 t requirements\, flood insurance\, CRS\, and mitigation. Course instructor
 s will be floodplain management and permitting staff from IDNR/OWR\, mappi
 ng staff from the ISWS\, and NFIP specialists from FEMA.\nCourse instructo
 rs will stay after the workshop to provide individual assistance to those 
 taking the CFM Exam on Tuesday evening.\n7 PE PDHs and 6.5 CFM CECs will b
 e awarded.\nCost: $50 including a box lunch\nRegistration at 8:00 am\nWork
 shop Outline:\nFlooding and Floodplain Management\nFloodplain  Mapping  an
 d Mapping Changes\nFloodplain and Floodway Regulations \nOrdinances\nFlood
  Insurance updates\nFlood Mitigation and CRS\nNFIP 101 Flyer
DTEND:20200310T163059
DTSTAMP:20260421T053920
DTSTART:20200310T083059
LOCATION:Tinley Park Convention Center\, 18451 Convention Center Drive\, Ti
 nley Park\, IL 60477
SEQUENCE:0
SUMMARY:NFIP 101 Seminar - 2020 Preconference
UID:550ed331-8cd0-4d2a-a5e9-874825e0e4be
END:VEVENT
END:VCALENDAR
