BEGIN:VCALENDAR
VERSION:2.0
PRODID:-//ddaysoftware.com//NONSGML DDay.iCal 1.0//EN
BEGIN:VEVENT
DESCRIPTION:This course is designed for both stormwater and floodplain admi
 nistrators as well as future and current Certified Floodplain Managers (CF
 Ms).  The session will cover floodplain management concepts\, basic FEMA m
 apping\, including V-Zones\, map changes\, State of Illinois floodway regu
 lations\, state and local floodplain permit requirements\, flood insurance
 \, CRS\, and mitigation. Course instructors will be floodplain management 
 and permitting staff from IDNR/OWR\, mapping staff from ISWS\, and NFIP sp
 ecialists from FEMA.\nDuring the last hour\, course instructors (and curre
 nt CFMs) will be available to answer questions related to the CFM Exam.\nW
 orkshop Outline:Flooding and Floodplain ManagementFloodplain Mapping and M
 apping ChangesFloodplain and Floodway Regulations Substantial Damage and S
 ubstantial Improvement and Post-Flood ResponseOrdinance AdministrationFloo
 d Insurance UpdatesFlood Mitigation and CRS\nCourse Flyer
DTEND:20190918T160059
DTSTAMP:20260421T053354
DTSTART:20190918T090059
LOCATION:Dupage County\, Administration Building 421\, Room 3-500B\, 421 N.
  County Farm Road\, Wheaton\, IL 60187
SEQUENCE:0
SUMMARY:Fall 2019 NFIP 101 Workshop
UID:d76455eb-e0ed-4e53-95cc-c4e0b143f43b
END:VEVENT
END:VCALENDAR
