BEGIN:VCALENDAR
VERSION:2.0
PRODID:-//ddaysoftware.com//NONSGML DDay.iCal 1.0//EN
BEGIN:VEVENT
DESCRIPTION:
DTEND:20190419T170059
DTSTAMP:20260421T054221
DTSTART:20190416T080059
LOCATION:Northern Illinois University (NIU Naperville)\, 1120 East Diehl Ro
 ad\, Naperville\, IL 60563
SEQUENCE:0
SUMMARY:4-Day 1-D/2-D HEC-RAS Seminar
UID:565bdde1-2485-4813-b5cc-3e92838282e3
END:VEVENT
END:VCALENDAR
