BEGIN:VCALENDAR
VERSION:2.0
PRODID:-//ddaysoftware.com//NONSGML DDay.iCal 1.0//EN
BEGIN:VEVENT
DESCRIPTION:
DTEND:20250822T170059
DTSTAMP:20260421T054858
DTSTART:20250822T140059
LOCATION:McCormick Bridgehouse & Chicago River Museum\, 99 Chicago Riverwal
 k\, Chicago\, IL 60601
SEQUENCE:0
SUMMARY:McCormick Bridgehouse & Chicago River Museum Tour
UID:df8d7ae8-4ba2-4383-bbe3-7c94775f02f7
END:VEVENT
END:VCALENDAR
