BEGIN:VCALENDAR
VERSION:2.0
PRODID:-//ddaysoftware.com//NONSGML DDay.iCal 1.0//EN
BEGIN:VEVENT
DESCRIPTION:
DTEND:20250828T170059
DTSTAMP:20260421T053756
DTSTART:20250828T080059
LOCATION:Virtual Zoom Conference\, IL
SEQUENCE:0
SUMMARY:HEC-RAS 2D with Pipe Networks Modelling Workshop
UID:03e0b7d4-0152-41ba-924f-e86046379f97
END:VEVENT
END:VCALENDAR
