BEGIN:VCALENDAR
VERSION:2.0
PRODID:-//ddaysoftware.com//NONSGML DDay.iCal 1.0//EN
BEGIN:VEVENT
DESCRIPTION:
DTEND:20250618T210059
DTSTAMP:20260421T054705
DTSTART:20250618T180059
LOCATION:Time Out Market\, 916 W Fulton Market\, Chicago\, IL 60607
SEQUENCE:0
SUMMARY:IAFSM Young Professionals Trivia Night - Chicago Area
UID:2555ea71-a148-4bb1-a0bf-a29fbc5fd75d
END:VEVENT
END:VCALENDAR
