BEGIN:VCALENDAR
VERSION:2.0
PRODID:-//ddaysoftware.com//NONSGML DDay.iCal 1.0//EN
BEGIN:VEVENT
DESCRIPTION:We are delighted to invite you to our first annual Pre-Conferen
 ce Casual Connect Reception&mdash\;an exclusive opportunity to kick off ou
 r conference in a warm and relaxed setting.\nJoin us on Monday\, March 10t
 h\, 2025\, from 7 pm-9 pm at the Tinley Park Convention Center for an even
 ing of easy conversation\, genuine connections\, and the chance to unwind 
 before the conference program begins.\nWe look forward to welcoming you to
  this special pre-conference gathering.\nThis is a free event\, no registr
 ation required.
DTEND:20250310T210059
DTSTAMP:20260421T054837
DTSTART:20250310T190059
LOCATION:Tinley Park Convention Center (South Pavilion)\, 18451 Convention 
 Center Dr\, Tinley Park\, IL 60477
SEQUENCE:0
SUMMARY:Pre-Conference Casual Connect Reception
UID:78f6e9b6-c220-4908-9bf7-a1210b719440
END:VEVENT
END:VCALENDAR
