BEGIN:VCALENDAR
VERSION:2.0
PRODID:-//ddaysoftware.com//NONSGML DDay.iCal 1.0//EN
BEGIN:VEVENT
DESCRIPTION:Tickets are $15 per person.\nFor this event\, attendees are wel
 come to join us beforehand for a happy hour at 5:00 PM at a nearby restaur
 ant\, Kaiser Tiger (1415 W Randolph St\, Chicago\, IL 60607)\nContact Alan
 a Rosenbaum at arosenbaum@baxterwoodman.com or 815-444-4487 with any quest
 ions.
DTEND:20250124T210059
DTSTAMP:20260421T053925
DTSTART:20250124T180059
LOCATION:Bad Axe Throwing\, 165 N Loomis St.\, Chicago\, IL 60607
SEQUENCE:0
SUMMARY:IAFSM Young Professionals Axe Throwing – Chicago Area
UID:47985a41-603d-4cfb-b16f-af059fc5d5f0
END:VEVENT
END:VCALENDAR
