BEGIN:VCALENDAR
VERSION:2.0
PRODID:-//ddaysoftware.com//NONSGML DDay.iCal 1.0//EN
BEGIN:VEVENT
DESCRIPTION:
DTEND:20250312T150059
DTSTAMP:20260421T054837
DTSTART:20250311T080059
LOCATION:Tinley Park Convention Center\, 18451 Convention Center Dr\, Tinle
 y Park\, IL 60477
SEQUENCE:0
SUMMARY:2025 IAFSM Annual Conference
UID:5ee8981d-7ea6-455a-ae47-e445ec78464a
END:VEVENT
END:VCALENDAR
