BEGIN:VCALENDAR
VERSION:2.0
PRODID:-//ddaysoftware.com//NONSGML DDay.iCal 1.0//EN
BEGIN:VEVENT
DESCRIPTION:This class is full.  We may have a couple of spots open up and 
 if you would like to be put on a waitlist please email Sarah Harbaugh at i
 afsm@illinoisfloods.org.\nJoin us for an intensive three-day workshop desi
 gned to provide hands-on instruction in SRH-2D modeling. Whether you're ne
 w to 2D modeling or looking to refine your skills\, this workshop will cov
 er foundational concepts and advanced techniques to help you effectively u
 se Sedimentation and River Hydraulics for two-dimensional hydraulic modeli
 ng.\nTwo-Dimensional Hydraulic Modeling of Rivers at Highway Encroachments
  (135095) provides participants with instruction to understand and appropr
 iately apply 2D hydraulic models of rivers in highway encroachment situati
 ons.\nWorkshop Objectives:\nUpon completion of the course\, participants w
 ill be able to:\n\nDescribe the differences between 1D and 2D hydraulic mo
 dels\nUse background data in SMS for 2D modeling projects\nUse SMS to setu
 p and run 2D models\nGenerate and review 2D model results\nInsert structur
 es into 2D models\nEvaluate 2D hydraulic parameters for use in bridge scou
 r analysis\n\n \nWho Should Attend:\nThe target audience for this course i
 s FHWA and state Department of Transportation hydraulics personnel and oth
 er Federal\, state\, local or consulting engineers who have responsibility
  for\, or desire to work with\, the hydraulic analysis and design of highw
 ay river crossings. Course participants should have knowledge of the funda
 mentals of open channel flow hydraulics. \nThis class is full.  We may hav
 e a couple of spots open up and if you would like to be put on a waitlist 
 please email Sarah Harbaugh at iafsm@illinoisfloods.org.
DTEND:20241031T160059
DTSTAMP:20260421T052229
DTSTART:20241029T073059
LOCATION:Northern Illinois University (NIU) Naperville Campus\, 1120 E Dieh
 l Rd\, Naperville\, IL 60563
SEQUENCE:0
SUMMARY:SRH-2D: Two Dimensional Hydraulic Modelings of Rivers at Highway En
 croachments
UID:de263b03-b20e-4cbc-873f-80b9f60b669f
END:VEVENT
END:VCALENDAR
