BEGIN:VCALENDAR
VERSION:2.0
PRODID:-//ddaysoftware.com//NONSGML DDay.iCal 1.0//EN
BEGIN:VEVENT
DESCRIPTION:More information about this event can be found at:\nhttps://www
 .illinoisfloods.org/conferences-workshops/iafsm-annual-conference
DTEND:20240313T170059
DTSTAMP:20260421T055414
DTSTART:20240312T080059
LOCATION:Peoria Civic Center\, 201 SW Jefferson Ave.\, Peoria\, IL 61602
SEQUENCE:0
SUMMARY:2024 IAFSM Annual Conference
UID:36e38077-a75d-477e-99c2-ac39a50b7bc3
END:VEVENT
END:VCALENDAR
