BEGIN:VCALENDAR
VERSION:2.0
PRODID:-//ddaysoftware.com//NONSGML DDay.iCal 1.0//EN
BEGIN:VEVENT
DESCRIPTION:Please visit our Annual Conference Page for more information ab
 out the conference.\n 
DTEND:20230315T150059
DTSTAMP:20260421T055444
DTSTART:20230314T080059
LOCATION:Tinley Park Convention Center\, 18451 Convention Center Dr\, Tinle
 y Park\, IL 60477
SEQUENCE:0
SUMMARY:2023 IAFSM Annual Conference
UID:b1cf41d3-a4bb-4142-ae84-46481b46b8fc
END:VEVENT
END:VCALENDAR
