BEGIN:VCALENDAR
VERSION:2.0
PRODID:-//ddaysoftware.com//NONSGML DDay.iCal 1.0//EN
BEGIN:VEVENT
DESCRIPTION:\n\nRegistration is open until February 27\, 2022\nOnline &ndas
 h\; link will be sent on February 28.\nFollow the link to complete your re
 gistration.\n\nhttps://www.illinoisfloods.org/meetings/register/options/10
 24\n\n\nContact Sarah Harbaugh at iafsm@illinoisfloods.org or 630-443-8145
  with questions.\n\nThis course is designed for both stormwater and floodp
 lain administrators as well as future and current Certified Floodplain Man
 agers (CFMs).  The session will cover floodplain management concepts\, bas
 ic FEMA mapping\, including V-Zones\, map changes\, State of Illinois floo
 dway regulations\, state and local floodplain permit requirements\, flood 
 insurance\, CRS\, and mitigation. Course instructors will be floodplain ma
 nagement and permitting staff from IDNR/OWR\, mapping staff from ISWS\, an
 d NFIP specialists from FEMA.\n \nWorkshop Outline:\nFlooding and Floodpla
 in Management\nFloodplain Mapping and Mapping Changes\nFloodplain and Floo
 dway Regulations   \nSubstantial Damage and Substantial Improvement and Po
 st-Flood Response\nOrdinance Administration\nFlood Insurance Updates\nFloo
 d Mitigation and CRS\n \nListen to the webinar at: https://youtu.be/VtGsh7
 yCeiI\nNFIP 101 Part 1 Introduction and Basics\nNFIP 101 Exercises\nNFIP 1
 01 Part 2 Mapping and Map Changes\nNFIP 101 Part 3A State Regulatory Progr
 am\nNFIP101 Parts 3B and 4 Local Admin\nNFIP 101 Part 5B CRS\nNFIP 101 Par
 t 6 &amp\; 7 Mitigation and V Zones\n\nJames Sink:\nThe slides cannot be s
 hared at this time. However\, here are some resources I can share:\n \n\nR
 isk Rating 2.0: Equity in Action | FEMA.gov\nLevees in Risk Rating 2.0 (fe
 ma.gov)\nFEMA Risk Rating Methodology and Data Appendix January 2022\nRisk
  Rating 2.0 State Profiles | FEMA.gov\nRESETTING PRIOR NFIP CLAIMS HISTORY
  (fema.gov)\nRisk Rating 2.0 Training for Insurance Agents (recording): ht
 tps://h2o.adobeconnect.com/_a1160290918/p1yztovhy4b7/\nASFPM RR2.0 Simple 
 Guide for Single-Family Homes: https://asfpm-library.s3.us-west-2.amazonaw
 s.com/ASFPM_Pubs/NFIP_RR2.0_QuickStartGuide-FINAL-508c_Updated_100521.pdf\
 n\n
DTEND:20220301T160059
DTSTAMP:20260421T053221
DTSTART:20220301T090059
LOCATION:Online / Virtual
SEQUENCE:0
SUMMARY:NFIP 101 Online Workshop March 2022
UID:6059df5a-b9e3-499c-b71b-c1502589e06b
END:VEVENT
END:VCALENDAR
