BEGIN:VCALENDAR
VERSION:2.0
PRODID:-//ddaysoftware.com//NONSGML DDay.iCal 1.0//EN
BEGIN:VEVENT
DESCRIPTION:Please visit our Annual conference webpage for more information
 .\nhttps://www.illinoisfloods.org/conferences-workshops/iafsm-annual-confe
 rence
DTEND:20220309T150059
DTSTAMP:20260421T054736
DTSTART:20220308T080059
LOCATION:Bloomington-Normal Marriott Hotel & Conference Center\, 201 Broadw
 ay\, Normal\, 61761
SEQUENCE:0
SUMMARY:2022 IAFSM Conference
UID:7b9ca43d-1790-4046-97d7-266159234222
END:VEVENT
END:VCALENDAR
