BEGIN:VCALENDAR
VERSION:2.0
PRODID:-//ddaysoftware.com//NONSGML DDay.iCal 1.0//EN
BEGIN:VEVENT
DESCRIPTION:This course is designed for both stormwater and floodplain admi
 nistrators as well as future and current Certified Floodplain Managers (CF
 Ms).  The session will cover floodplain management concepts\, basic FEMA m
 apping\, including V-Zones\, map changes\, State of Illinois floodway regu
 lations\, state and local floodplain permit requirements\, flood insurance
 \, CRS\, and mitigation. Course instructors will be floodplain management 
 and permitting staff from IDNR/OWR\, mapping staff from ISWS\, and NFIP sp
 ecialists from FEMA.\nWorkshop Outline:\nFlooding and Floodplain Managemen
 t\nFloodplain Mapping and Mapping Changes\nFloodplain and Floodway Regulat
 ions   \nSubstantial Damage and Substantial Improvement and Post-Flood Res
 ponse\nOrdinance Administration\nFlood Insurance Updates\nFlood Mitigation
  and CRS\nCost: FREE\nTime:  9:00 am - 4:00 pm with 30 minute lunch break 
 and two 15 minute break\n5 PE PDHs and 4 CFM CECs\nListen to the webinar a
 t: https://youtu.be/WAanI8KuNaA
DTEND:20210928T160059
DTSTAMP:20260421T053920
DTSTART:20210928T090059
LOCATION:Online / Virtual
SEQUENCE:0
SUMMARY:NFIP 101 Online Workshop
UID:ee94d770-15c7-4f04-bbec-856308b56b81
END:VEVENT
END:VCALENDAR
