BEGIN:VCALENDAR
VERSION:2.0
PRODID:-//ddaysoftware.com//NONSGML DDay.iCal 1.0//EN
BEGIN:VEVENT
DESCRIPTION:Our annual conference will be held on March 10-11\, 2021.  This
  conference will be a virtual event. \nRegistration is now open.  \nhttps:
 //www.illinoisfloods.org/meetings/register/options/1019\nThe virtual confe
 rence will be available to attendees for a year so if they are unable to a
 ttend on the actual days of the virtual conference they can still go back 
 and view presentations and get pdh and cec credits.  With the reduced cost
  of registration we encourage everyone to register for the full conference
  because of the benefit of continuing education credits.\nWe are excited a
 bout the virtual exhibitor/sponsorship opportunities we are providing this
  year.  We have partnered with an amazing firm that will provide you with 
 all the tools to really showcase your organization.  The "exhibit hall" wi
 ll remain open for viewing after the conference for a full year so you can
  encourage clients to view your information that entire time.  Please revi
 ew the exhibitor/sponsorship flyer below for more details.  If you have an
 y questions please contact Sarah Harbaugh at iafsm@illinoisfloods.org.  On
 ce you register a sheet with detailed instructions about how to submit you
 r information will be sent to you.  The deadline to submit all of the mate
 rials for your booth is February 8th so the sooner you get started the bet
 ter in order to take full advantage of this opportunity.\nConference Flyer
 \n2021 Exhibitor/Sponsorship Flyer\n2021 Local Official Scholarship\nThe s
 cholarship includes registration fees. 
DTEND:20210311T150059
DTSTAMP:20260421T054812
DTSTART:20210310T080059
LOCATION:
SEQUENCE:0
SUMMARY:2021 IAFSM Virtual Conference
UID:7d2589ff-df73-40d7-be4c-e1e3380a680c
END:VEVENT
END:VCALENDAR
