BEGIN:VCALENDAR
VERSION:2.0
PRODID:-//ddaysoftware.com//NONSGML DDay.iCal 1.0//EN
BEGIN:VEVENT
DESCRIPTION:No Halloween parties this year doesn&rsquo\;t mean no treats!  
 Show off your knowledge and/or your costume by joining the YP Group for a 
 spooktacular evening of fun and fright. Prizes go to the top team and to t
 he best Halloween costume. You are welcome to form a team (4 members maxim
 um) or we can pair you with other YPs. Topics to span water topics\, gener
 al knowledge\, pop culture\, and Halloween trivia! Date:  Wednesday\, Octo
 ber 28Time:  6:00pm - 7:30pmPlease register at the link below if you are i
 nterested in participating. If you would like to join as a team\, please i
 ndicate the name and email address for all team members.REGISTRATION LINK:
  https://forms.gle/ALcWsC4vtu2FTXj56 If you have any questions please emai
 l Adam Blumstein (arblumstein@burnsmcd.com). We will send more details and
  the Zoom meeting link to all registrants closer to the event. Hope to see
  you there!
DTEND:20201028T193059
DTSTAMP:20260421T054644
DTSTART:20201028T180059
LOCATION:Virtual Event
SEQUENCE:0
SUMMARY:IAFSM Younger Professionals Group - Trivia Night
UID:2c015096-727a-4e64-944d-bc9bf94703bf
END:VEVENT
END:VCALENDAR
