BEGIN:VCALENDAR
VERSION:2.0
PRODID:-//ddaysoftware.com//NONSGML DDay.iCal 1.0//EN
BEGIN:VEVENT
DESCRIPTION:
DTEND:20170309T150059
DTSTAMP:20260421T053317
DTSTART:20170308T080059
LOCATION:Crowne Plaza Hotel\, 3000 South Dirksen Parkway\, Springfield\, IL
  62703
SEQUENCE:0
SUMMARY:2017 IAFSM Annual Conference
UID:0e08c8eb-cbd2-41c3-aaaa-2f4eea895db2
END:VEVENT
END:VCALENDAR
