BEGIN:VCALENDAR
VERSION:2.0
PRODID:-//ddaysoftware.com//NONSGML DDay.iCal 1.0//EN
BEGIN:VEVENT
DESCRIPTION:All members are welcome and encouraged to attend the board meet
 ing.  Please contact Sarah Harbaugh at iafsm@illinoisfloods.org to obtain 
 the zoom invitation for virtual attendance.
DTEND:20250108T100000
DTSTAMP:20260421T054736
DTSTART:20250108T100000
LOCATION:Virtual Zoom Meeting
SEQUENCE:0
SUMMARY:January 2025 Board Meeting
UID:d3bdf245-e291-4b00-96b0-86459c409431
END:VEVENT
END:VCALENDAR
