BEGIN:VCALENDAR
VERSION:2.0
PRODID:-//ddaysoftware.com//NONSGML DDay.iCal 1.0//EN
BEGIN:VEVENT
DESCRIPTION:This meeting will be an in person meeting with a Zoom option.  
 This is our conference planning meeting.  All members are welcome and enco
 uraged to attend the board meeting.  Please contact Sarah Harbaugh at iafs
 m@illinoisfloods.org to obtain the zoom invitation for virtual attendance.
DTEND:20241113T100000
DTSTAMP:20260421T054339
DTSTART:20241113T100000
LOCATION:V3 Companies\, 7325 Janes Ave. #100\, Woodridge\, IL 60517
SEQUENCE:0
SUMMARY:November 2024 Board Meeting
UID:55d34746-21dd-42b9-813a-19f3c4497eca
END:VEVENT
END:VCALENDAR
