BEGIN:VCALENDAR
VERSION:2.0
PRODID:-//ddaysoftware.com//NONSGML DDay.iCal 1.0//EN
BEGIN:VEVENT
DESCRIPTION:All members are welcome and encouraged to attend the board meet
 ing.  Please contact Sarah Harbaugh at iafsm@illinoisfloods.org to obtain 
 the zoom invitation for virtual attendance.
DTEND:20240911T100000
DTSTAMP:20260421T054043
DTSTART:20240911T100000
LOCATION:Virtual Zoom Meeting
SEQUENCE:0
SUMMARY:September 2024 Board Meeting
UID:c4822772-5936-458e-86b4-8c3cdbf0757a
END:VEVENT
END:VCALENDAR
