BEGIN:VCALENDAR
VERSION:2.0
PRODID:-//ddaysoftware.com//NONSGML DDay.iCal 1.0//EN
BEGIN:VEVENT
DESCRIPTION:All members are welcome and encouraged to attend the board meet
 ing.  Please contact Sarah Harbaugh at iafsm@illinoisfloods.org to obtain 
 the zoom invitation for virtual attendance.
DTEND:20240710T100000
DTSTAMP:20260421T054414
DTSTART:20240710T100000
LOCATION:Virtual Zoom Meeting
SEQUENCE:0
SUMMARY:July 2024 Board Meeting
UID:7f4b5680-5e4a-4c7a-8b9f-616b1f624584
END:VEVENT
END:VCALENDAR
