BEGIN:VCALENDAR
VERSION:2.0
PRODID:-//ddaysoftware.com//NONSGML DDay.iCal 1.0//EN
BEGIN:VEVENT
DESCRIPTION:All members are welcome and encouraged to attend the board meet
 ing.  Please contact Sarah Harbaugh at iafsm@illinoisfloods.org to obtain 
 the zoom invitation for virtual attendance.
DTEND:20240508T100000
DTSTAMP:20260421T053604
DTSTART:20240508T100000
LOCATION:Virtual Zoom Meeting
SEQUENCE:0
SUMMARY:May 2024 Board Meeting
UID:180aceb0-d2ce-4f74-875a-415f111b21fc
END:VEVENT
END:VCALENDAR
