BEGIN:VCALENDAR
VERSION:2.0
PRODID:-//ddaysoftware.com//NONSGML DDay.iCal 1.0//EN
BEGIN:VEVENT
DESCRIPTION:SMC is hosting the field deployed course: FEMA L-0273 Managing 
 the Floodplain Development through the NFIP.  This course is the field dep
 loyed version of the FEMA EMI E0273 Course.  Registration is open and any 
 interested persons should follow the attached instructions for registering
  for this course.\nThis is a four-day course.\nIf you are not interested\,
  please feel free to share this information with any other parties who may
  be interested in attending!\nIf you have any questions or you need assist
 ance\, please contact Michelle Staff at 202-704-1098. Or email at michelle
 .staff@fema.dhs.gov\nEvent Flyer\nEMI Mitigation Branch L Course Process
DTEND:20240524T170000
DTSTAMP:20260421T054553
DTSTART:20240521T081500
LOCATION:Lake County SMC - Central Permit Facility\, 500 W. Winchester Road
 \, Libertyville\, IL
SEQUENCE:0
SUMMARY:FEMA L-0273 Managing the Floodplain Development through the NFIP
UID:c3ddad36-3679-4cbd-ab11-3b3fcf233612
END:VEVENT
END:VCALENDAR
