BEGIN:VCALENDAR
VERSION:2.0
PRODID:-//ddaysoftware.com//NONSGML DDay.iCal 1.0//EN
BEGIN:VEVENT
DESCRIPTION:All members are welcome and encouraged to attend the board meet
 ing.  Please contact Sarah Harbaugh at iafsm@illinoisfloods.org to obtain 
 the zoom invitation for virtual attendance.\nFor more information\nSarah H
 arbaughiafsm@illinoisfloods.org630-443-8145
DTEND:20230913T120000
DTSTAMP:20260421T055016
DTSTART:20230913T100000
LOCATION:Virtual Zoom Meeting
SEQUENCE:0
SUMMARY:September 2023 Board Meeting
UID:e6b5d984-0a60-4ded-a7d6-0c004be9fa31
END:VEVENT
END:VCALENDAR
