BEGIN:VCALENDAR
VERSION:2.0
PRODID:-//ddaysoftware.com//NONSGML DDay.iCal 1.0//EN
BEGIN:VEVENT
DESCRIPTION:SEMINAR PRESENTATION DOWNLOADS\n\n\n\nDay 1 Seminars\nDay 2 Sem
 inars\n\n\nMWRD Project Partnership Opportunities.pdf\nDowners Grove Utili
 ty Overview.pdf\n\n\nAlternative Funding Opportunities.pdf\nFeasibility An
 alysis.pdf\n\n\nFEMA Grant Program.pdf\nDetermining Funding Needs.pdf\n\n\
 nArmy Corps Cost Share Program.pdf\nVillage of Niles Funding Needs Example
 .pdf\n\n\nDuPage County Funding Programs.pdf\nEquivalent Runoff Unit (ERU)
  Calculations.pdf\n\n\nLake County Funding Programs.pdf\nAlternate Rate Sc
 enarios.pdf\n\n\nIDNR Capital Flood Damage Reduction Program.pdf\nMaintena
 nce of GIS Data.pdf\n\n\nBenefit Cost Analysis.pdf\nUtility Setup-Adminstr
 ation.pdf\n\n\n \nEducation-Outreach.exe\n\n\n \nFinancial Analysis.pdfFin
 ancial Analysis-Example.pdf\n\n\n \nUtility Implementation.pdfUtility Impl
 ementation-Checklist.pdf\n\n\n\n 
DTEND:20180222T000000
DTSTAMP:20260421T054257
DTSTART:20180221T000000
LOCATION:MWRD Stickney Palnt\, 6001 West Pershing Road\, Cicero\, IL 60804
SEQUENCE:0
SUMMARY:2-Day Stormwater Funding Seminar
UID:5b863990-e76b-423f-ae6b-3cd51da2c42d
END:VEVENT
END:VCALENDAR
