BEGIN:VCALENDAR
VERSION:2.0
PRODID:-//ddaysoftware.com//NONSGML DDay.iCal 1.0//EN
BEGIN:VEVENT
DESCRIPTION:For more information on how to take an on-line exam please go t
 o our Floodplain Manager Certification page:\nhttps://www.illinoisfloods.o
 rg/about-iafsm/floodplain-manager-certification
DTEND:20260101T150000
DTSTAMP:20260421T054108
DTSTART:20260101T150000
LOCATION:
SEQUENCE:0
SUMMARY:CFM Exams will be held on-line only. Please click on this event for
  more information.
UID:6ae05067-d099-4d4b-b46e-aa72ccd54510
END:VEVENT
END:VCALENDAR
