BEGIN:VCALENDAR
VERSION:2.0
PRODID:-//ddaysoftware.com//NONSGML DDay.iCal 1.0//EN
BEGIN:VEVENT
DESCRIPTION:All members are welcome and encouraged to attend the board meet
 ing.  \nPlease contact Sarah Harbaugh at iafsm@illinoisfloods.org to obtai
 n the zoom invitation if you are planning on attending virtually.
DTEND:20230712T120000
DTSTAMP:20260421T054812
DTSTART:20230712T100000
LOCATION:TBD
SEQUENCE:0
SUMMARY:July 2023 Board Meeeting
UID:1971c195-8532-494a-b260-4eab13051868
END:VEVENT
END:VCALENDAR
