BEGIN:VCALENDAR
VERSION:2.0
PRODID:-//ddaysoftware.com//NONSGML DDay.iCal 1.0//EN
BEGIN:VEVENT
DESCRIPTION:All members are welcome and encouraged to attend the board meet
 ing.  \nPlease contact Sarah Harbaugh at iafsm@illinoisfloods.org to obtai
 n the zoom invitation if you are planning on attending virtually.\n 
DTEND:20230524T120000
DTSTAMP:20260421T053501
DTSTART:20230524T100000
LOCATION:Virtual
SEQUENCE:0
SUMMARY:May 2023 Board Meeting
UID:50cd01f8-6c66-4e6e-accb-241603147ddc
END:VEVENT
END:VCALENDAR
