BEGIN:VCALENDAR
VERSION:2.0
PRODID:-//ddaysoftware.com//NONSGML DDay.iCal 1.0//EN
BEGIN:VEVENT
DESCRIPTION:All members are welcome and encouraged to attend the board meet
 ing.  Please contact Sarah Harbaugh at iafsm@illinoisfloods.org to obtain 
 the zoom invitation for virtual attendance.\nFor more information\nSarah H
 arbaughiafsm@illinoisfloods.org630-443-8145
DTEND:20230315T090000
DTSTAMP:20260421T054257
DTSTART:20230315T080000
LOCATION:Tinley Park Convention Center\, 18451 Convention Center Dr.\, Tinl
 eyy park\, IL 60477
SEQUENCE:0
SUMMARY:March 2023 Board Meeting
UID:5e3e9358-9734-4b86-ba00-2298ecbe8e68
END:VEVENT
END:VCALENDAR
