BEGIN:VCALENDAR
VERSION:2.0
PRODID:-//ddaysoftware.com//NONSGML DDay.iCal 1.0//EN
BEGIN:VEVENT
DESCRIPTION:All members are welcome and encouraged to attend the board meet
 ing.  Please contact Sarah Harbaugh at iafsm@illinoisfloods.org to obtain 
 the zoom invitation for virtual attendance.\nFor more information\nSarah H
 arbaughiafsm@illinoisfloods.org630-443-8145
DTEND:20240110T120000
DTSTAMP:20260421T054125
DTSTART:20240110T100000
LOCATION:Virtual Zoom Meeting
SEQUENCE:0
SUMMARY:January 2024 Board Meeting
UID:5632d08f-fbae-4f4d-805e-0bc3cbdfbb6d
END:VEVENT
END:VCALENDAR
