BEGIN:VCALENDAR
VERSION:2.0
PRODID:-//ddaysoftware.com//NONSGML DDay.iCal 1.0//EN
BEGIN:VEVENT
DESCRIPTION:All members are welcome and encouraged to attend the board meet
 ing.  This meeting is very important to try and attend in person.  \nPleas
 e contact Sarah Harbaugh at iafsm@illinoisfloods.org to obtain the zoom in
 vitation if you are planning on attending virtually.\nFor more information
 \nSarah Harbaughiafsm@illinoisfloods.org630-443-8145
DTEND:20221116T140000
DTSTAMP:20260421T055128
DTSTART:20221116T090000
LOCATION:V3\, 7325 Janes Avenue\, Woodridge\, IL 60517
SEQUENCE:0
SUMMARY:November 2022 Board Meeting (Conference Planning)
UID:8612e8a0-f656-4991-8b1a-0ac87ca6306f
END:VEVENT
END:VCALENDAR
