BEGIN:VCALENDAR
VERSION:2.0
PRODID:-//ddaysoftware.com//NONSGML DDay.iCal 1.0//EN
BEGIN:VEVENT
DESCRIPTION:All members are welcome and encouraged to attend the board meet
 ing.  Please contact Sarah Harbaugh at iafsm@illinoisfloods.org to obtain 
 the zoom invitation.\nFor more information\nSarah Harbaughiafsm@illinoisfl
 oods.org630-443-8145
DTEND:20220914T120000
DTSTAMP:20260421T054108
DTSTART:20220914T100000
LOCATION:Virtual Zoom Meeting
SEQUENCE:0
SUMMARY:September 2022 Board Meeting
UID:6c977d2f-7bc7-4df8-a6b5-5971537ba336
END:VEVENT
END:VCALENDAR
