BEGIN:VCALENDAR
VERSION:2.0
PRODID:-//ddaysoftware.com//NONSGML DDay.iCal 1.0//EN
BEGIN:VEVENT
DESCRIPTION:All members are welcome and encouraged to attend the board meet
 ing.  Please contact Sarah Harbaugh at iafsm@illinoisfloods.org to obtain 
 the zoom invitation.
DTEND:20220720T120000
DTSTAMP:20260421T055439
DTSTART:20220720T100000
LOCATION:Virtual Zoom Meeting
SEQUENCE:0
SUMMARY:July Board Meeting
UID:70a8bcc9-a677-438d-b83f-a9f93f4880e3
END:VEVENT
END:VCALENDAR
