BEGIN:VCALENDAR
VERSION:2.0
PRODID:-//ddaysoftware.com//NONSGML DDay.iCal 1.0//EN
BEGIN:VEVENT
DESCRIPTION:Currently this will be the last exam IAFSM will be holding in-p
 erson. \nPlease keep in mind this in-person exam could be cancelled due to
  COVID related issues.  If that is the case you may apply your payment tow
 ard an on-line exam.
DTEND:20221207T120000
DTSTAMP:20260421T053604
DTSTART:20221207T090000
LOCATION:Christopher B. Burke Engineering\, 9575 W. Higgins Road\, Rosemont
 \, IL 60018
SEQUENCE:0
SUMMARY:CFM Exam - Rosemont\, IL
UID:77562ae6-cdfd-482b-88a1-e91f66c468e3
END:VEVENT
END:VCALENDAR
