BEGIN:VCALENDAR
VERSION:2.0
PRODID:-//ddaysoftware.com//NONSGML DDay.iCal 1.0//EN
BEGIN:VEVENT
DESCRIPTION:Currently IAFSM will be only be holding in-person exams until t
 he end of 2022. \nPlease keep in mind this in-person exam could be cancell
 ed due to COVID related issues.  If that is the case you may apply your pa
 yment to a future in -person exam or toward an on-line exam.
DTEND:20220913T130000
DTSTAMP:20260421T053430
DTSTART:20220913T100000
LOCATION:Fairview Heights City Hall\, 10025 Bunkum Rd.\, Fairview Heights\,
  IL 62208
SEQUENCE:0
SUMMARY:CFM Exam - Fairview Heights
UID:38b6769c-35b7-4bec-92a9-c247f72a3940
END:VEVENT
END:VCALENDAR
