BEGIN:VCALENDAR
VERSION:2.0
PRODID:-//ddaysoftware.com//NONSGML DDay.iCal 1.0//EN
BEGIN:VEVENT
DESCRIPTION:
DTEND:20220307T210000
DTSTAMP:20260421T054339
DTSTART:20220307T180000
LOCATION:Bloomington-Normal Marriott Hotel & Conference Center\, 201 Broadw
 ay Ave.\, Normal\, IL 61761
SEQUENCE:0
SUMMARY:Pre-Conference CFM Exam
UID:b0c8f2d0-951b-46cb-acba-37eeb9282e0b
END:VEVENT
END:VCALENDAR
