BEGIN:VCALENDAR
VERSION:2.0
PRODID:-//ddaysoftware.com//NONSGML DDay.iCal 1.0//EN
BEGIN:VEVENT
DESCRIPTION:
DTEND:20210930T170000
DTSTAMP:20260421T054308
DTSTART:20210930T140000
LOCATION:V3\, 7325 Janes Avenue\, Woodridge\, IL 60517
SEQUENCE:0
SUMMARY:CFM Exam - Woodridge\, IL
UID:ee26d423-da7e-45d9-aeb8-60a92593d2a3
END:VEVENT
END:VCALENDAR
