BEGIN:VCALENDAR
VERSION:2.0
PRODID:-//ddaysoftware.com//NONSGML DDay.iCal 1.0//EN
BEGIN:VEVENT
DESCRIPTION:
DTEND:20211020T120000
DTSTAMP:20260421T054308
DTSTART:20211020T090000
LOCATION:Christopher B. Burke Engineering\, 9575 W Higgins Road\, Suite 600
 \, Rosemont\, IL 60018
SEQUENCE:0
SUMMARY:CFM Exam - Rosemont\, IL
UID:3231e0b1-de47-462c-b664-dfdf23e0478f
END:VEVENT
END:VCALENDAR
